BEGIN:VCALENDAR
VERSION:2.0
BEGIN:VEVENT
UID:ics69ea82aa6bd06
DTSTAMP:20260423T203554Z
LOCATION:
DESCRIPTION:
URL:https://www.teamercard.de/bestellung/teamercard-material/
SUMMARY:Teamercard Material-Set
DTSTART:20211008T104200Z
DTEND:19691231T210000Z
END:VEVENT
END:VCALENDAR
