BEGIN:VCALENDAR
VERSION:2.0
BEGIN:VEVENT
UID:ics69ea86725fd77
DTSTAMP:20260423T205202Z
LOCATION:
DESCRIPTION:
URL:https://www.teamercard.de/bestellung/teamercard-material-2/
SUMMARY:T-Shirts für Teamer*innen
DTSTART:20211008T104200Z
DTEND:19691231T210000Z
END:VEVENT
END:VCALENDAR
