BEGIN:VCALENDAR
VERSION:2.0
BEGIN:VEVENT
UID:ics69e5e1a5f3991
DTSTAMP:20260420T081949Z
LOCATION:
DESCRIPTION:
URL:https://www.teamercard.de/bestellung/ausfuellhilfe-fuer-die-teamercard-urkunde/
SUMMARY:Ausfüllhilfe für die Teamercard Urkunde
DTSTART:20211006T105500Z
DTEND:19691231T210000Z
END:VEVENT
END:VCALENDAR
